BEGIN:VCALENDAR
PRODID:NingEventWidget-v1
VERSION:2.0
METHOD:PUBLISH
BEGIN:VEVENT
UID:2197786:Event:29597
DTSTAMP:20260422T044145Z
SUMMARY:Barcamp Tampa
DESCRIPTION:The topics and the presenters are diverse, but will appeal
  to anyone who has an interest in technology and the internet. This is
  an event for web designers, developers, marketers, copy writers, SEOs
 , sys admins and anyone who operates a business with a web presence to
  get together and share their knowledge.\nThe endearing quality of the
  unconference format is that you have options all day. If the presenta
 tion you choose isn’t what you were expecting, you can always jump o
 ver into another room and check out something else.\n \nThe schedule 
 starts BLANK in the morning and is filled up by attendees that want to
  do a presentation. Presenters choose their room and time and everyone
  else scours the board to choose the path that they will take for the 
 day.\nThe day is what you make it, by choosing presentations to attend
  and deciding whether or not to present a topic. This is the best part
  of BarCamp. While most presenters prepare topics beforehand, there ar
 e sometimes impromptu topics from passionate people inspired by the fe
 el of the day.\n \nBarcamp is a community event, both in participatio
 n and in funding. It is made possible by the time and money donated by
  the crew of people running the event, the attendees and companies tha
 t support us. Thank you to all of you!\nEach year we have some fantast
 ic companies that sponsor by donating time, money, facilities and supp
 lies for the day. We’re also very lucky to get great support from at
 tendees making donations in order to attend. We hope that everyone tak
 es the time to check out the companies and people that support us!\n\n
 For more information visit https://codetown.com/events/barcamp-tampa
DTSTART:20110924T040000Z
DTEND:20110925T035900Z
CATEGORIES:barcamp
LOCATION:Tampa
WEBSITE:http://barcamptampabay.org/
URL:http://barcamptampabay.org/
CONTACT:
ORGANIZER:Barcamp Tampa
ATTACH;FMTTYPE="image/jpeg":http://storage.ning.com/topology/rest/1.0/
 file/get/2006944978?profile=original
ATTENDEE;ROLE=REQ-PARTICIPANT;PARTSTAT=ACCEPTED;RSVP=TRUE;CN="Umesh Kr
 ishnaswamy":https://codetown.com/profile/UmeshKrishnaswamy
ATTENDEE;ROLE=REQ-PARTICIPANT;PARTSTAT=ACCEPTED;RSVP=TRUE;CN="Michael 
 Levin":https://codetown.com/profile/MichaelLevin
ATTENDEE;ROLE=REQ-PARTICIPANT;PARTSTAT=TENTATIVE;RSVP=TRUE;CN="Shawn R
 hoads":https://codetown.com/profile/ShawnRhoads
END:VEVENT
END:VCALENDAR
