BEGIN:VCALENDAR
PRODID:NingEventWidget-v1
VERSION:2.0
METHOD:PUBLISH
BEGIN:VEVENT
UID:2197786:Event:39050
DTSTAMP:20260422T074033Z
SUMMARY:Barcamp Orlando
DESCRIPTION:What is it?\nBarCamp Orlando is an annual community-build
 ing event which aims to bring people from different backgrounds togeth
 er for cooperative learning. Technologies such as Ruby, PHP, Java and 
 C will be present alongside graphic design, music, photography, and ot
 her new media. We hope to provide free t-shirts and lunch to all atten
 dees, but can only do so with assistance from sponsors.\n\nThe First R
 ule of BarCamp\nIt is strongly recommended that attendees give a demo,
  a session, or help with one. Don't be intimidated by this, just pick 
 something you're passionate about and come give a talk on it. It could
  be anything... an operating system you use, a language you program wi
 th, or how to wash your cat. We have four speaking rooms at our venue,
  and a projector will be available at all but one.\nTalks will be sche
 duled on the day of the event (that's part of the fun). We'll build a 
 speaker schedule on a whiteboard starting at 9:30 am. Come early if yo
 u want to guarantee a speaking spot!\nLocation\nFor the first time, Ba
 rCamp will take place in the heart of downtown Orlando's tech scene at
  The Plaza. We'll have four areas available for presentations in the n
 orth tower: Voxeo's 10th floor common area, and three in the 20th fl
 oor space that will soon be home to Envy Labs andCode School. Lunch 
 will be served at TBA, and plenty of open space will be available to h
 ang out and mingle.\n\nFor more information visit https://codetown.com
 /events/barcamp-orlando-1
DTSTART:20120414T133000Z
DTEND:20120414T220000Z
CATEGORIES:barcamp
LOCATION:The Plaza
WEBSITE:http://barcamporlando.org/
URL:http://barcamporlando.org/
CONTACT:
ORGANIZER:Barcamp Orlando ... and you!
ATTACH;FMTTYPE="image/jpeg":http://storage.ning.com/topology/rest/1.0/
 file/get/2006946620?profile=original
ATTENDEE;ROLE=REQ-PARTICIPANT;PARTSTAT=ACCEPTED;RSVP=TRUE;CN="Jack E. 
 Korner":https://codetown.com/profile/JackEKorner
END:VEVENT
END:VCALENDAR
