BEGIN:VCALENDAR
PRODID:NingEventWidget-v1
VERSION:2.0
METHOD:PUBLISH
BEGIN:VEVENT
UID:2197786:Event:42114
DTSTAMP:20260424T162945Z
SUMMARY:BarCamp Deland
DESCRIPTION:What is BarCamp Deland?\nBarCamp Deland is an ad-hoc uncon
 ference event centered around technology. It aims to bring people toge
 ther from different backgrounds like web-design, photography, graphic 
 design, art, music, web-development and technology for cooperative lea
 rning. It's an intense event with discussions, demos and interaction 
 from attendees. Anyone with something to contribute or with the desire
  to learn is welcome and invited to join. When you come, be prepared t
 o share.\nParticipants wanted!\nAttendees are encouraged to give a dem
 o, a session, or help with one, or otherwise volunteer/contribute in s
 ome way to support the event. All presentations are scheduled the day 
 they happen. Prepare in advance, but come early to get a slot on the w
 all. The people present at the event will select the demos or presenta
 tions they want to see.Presenters are responsible for making sure that
  notes/slides/audio/video of their presentations are published on the 
 web for the benefit of all and those who can’t be present.\nWho shou
 ld come?\n\nAnybody interested in technology and the creative industry
 \nProgrammers, Designers, Photographers, Artists, Marketers, Entrepren
 eurs, Writers\nIf you're interested in meeting and making a connection
  with others in the local tech industry.\nIf you have something to tea
 ch or learn from others related to technology.\n\nRules of BarCamp Del
 and\n\nIf you plan to attend, you're encouraged to give a demo, a sess
 ion, or help with one, or otherwise volunteer/contribute in some way t
 o support the event\nEveryone attending is reponsible for helping to p
 romote the event, so go ahead and follow us on twitter, use the hasht
 ag #barcampdeland, like our facebook page, blog and share it with th
 e world.\nIf you want to present, you must write your topic and name i
 n a presentation slot.\nAs many presentations at a time as facilities 
 allow for.\nNo pre-scheduled presentations\nPresentations will go on a
 s long as they have to or until they run into another presentation slo
 t.\n\n\nFor more information visit https://codetown.com/events/barcamp
 -deland
DTSTART:20121006T130000Z
DTEND:20121006T210000Z
CATEGORIES:barcamp
LOCATION:Deland
WEBSITE:http://www.meetup.com/OrlandoPHP/events/80609732/
URL:http://www.meetup.com/OrlandoPHP/events/80609732/
CONTACT:http://maps.google.com/maps?q=110+W+Indiana+Ave%2C+DeLand%2C+F
 L+32720%2C+DeLand%2C+Fl
ORGANIZER:Orlando PHP Users Group
ATTACH;FMTTYPE="image/jpeg":http://storage.ning.com/topology/rest/1.0/
 file/get/2006948086?profile=original
ATTENDEE;ROLE=REQ-PARTICIPANT;PARTSTAT=TENTATIVE;RSVP=TRUE;CN="Michael
  Levin":https://codetown.com/profile/MichaelLevin
END:VEVENT
END:VCALENDAR
