BEGIN:VCALENDAR
PRODID:NingEventWidget-v1
VERSION:2.0
METHOD:PUBLISH
BEGIN:VEVENT
UID:2197786:Event:42494
DTSTAMP:20260424T223503Z
SUMMARY:AITP October Dinner Presentation
DESCRIPTION:Something a little lighter going into the holidays: In thi
 s fascinating slide-illustrated presentation, Dr. Andrew Nichols discu
 sses his research into the causative effects of geomagnetic activity i
 n reported cases of ESP, poltergeists, and haunted houses.Full details
  on our Facebook page, facebook.com/aitp.ncfl\nRSVP to reserve@aitp-nc
 fl.org\n\nFor more information visit https://codetown.com/events/aitp-
 october-dinner-presentation
DTSTART:20121023T213000Z
DTEND:20121024T003000Z
CATEGORIES:presentation, and, dinner
LOCATION:UF Hilton
WEBSITE:
URL:
CONTACT:
ORGANIZER:AITP North-Central Florida Chapter
ATTACH;FMTTYPE="image/jpeg":http://storage.ning.com/topology/rest/1.0/
 file/get/2006947523?profile=original
ATTENDEE;ROLE=REQ-PARTICIPANT;PARTSTAT=ACCEPTED;RSVP=TRUE;CN="Michael 
 Lucas":https://codetown.com/profile/MichaelLucas
END:VEVENT
END:VCALENDAR
