BEGIN:VCALENDAR
PRODID:NingEventWidget-v1
VERSION:2.0
METHOD:PUBLISH
BEGIN:VEVENT
UID:2197786:Event:68856
DTSTAMP:20260423T140949Z
SUMMARY:AITP-NCFL April 2019 Presentation
DESCRIPTION:At our April 23 presentation, we are delighted to host att
 orneys Richard C. Markow and Tom McThenia, Jr. of Gray | Robinson Atto
 rneys At Law presenting “A 2019 Cybersecurity Legal Update”.\n\nFo
 r full information or to reserve a seat, please see the meeting inform
 ation page.\n\nFor more information visit https://codetown.com/events/
 aitp-ncfl-april-2019-presentation
DTSTART:20190423T220000Z
DTEND:20190424T000000Z
CATEGORIES:presentation, and, networking
LOCATION:ITProTV
WEBSITE:https://www.google.com/maps/place/ITProTV/@29.6553353,-82.4257
 816,17z/data=!3m1!4b1!4m5!3m4!1s0x88e8bc9a33dea90f:0xd9ff4a55292f0780!
 8m2!3d29.6553353!4d-82.4235929
URL:https://www.google.com/maps/place/ITProTV/@29.6553353,-82.4257816,
 17z/data=!3m1!4b1!4m5!3m4!1s0x88e8bc9a33dea90f:0xd9ff4a55292f0780!8m2!
 3d29.6553353!4d-82.4235929
CONTACT:352-354-AITP
ORGANIZER;CN="Michael Lucas":https://codetown.com/profile/MichaelLucas
ATTACH;FMTTYPE="image/jpeg":https://storage.ning.com/topology/rest/1.0
 /file/get/1773414752?profile=original
ATTENDEE;ROLE=REQ-PARTICIPANT;PARTSTAT=ACCEPTED;RSVP=TRUE;CN="Michael 
 Lucas":https://codetown.com/profile/MichaelLucas
END:VEVENT
END:VCALENDAR
