BEGIN:VCALENDAR
PRODID:NingEventWidget-v1
VERSION:2.0
METHOD:PUBLISH
BEGIN:VEVENT
UID:2197786:Event:50200
DTSTAMP:20260421T080157Z
SUMMARY:AITP May Presentation
DESCRIPTION:We are pleased to welcome Matt Allison of Kelly Services a
 s he speaks on the art of retaining employees.\n\nThis topic has been 
 requested by a number of people in our community and we are expecting 
 an enthusiastic turnout!RSVP today at reserve@aitp-ncfl.org View the m
 eeting flyer at www.aitp-ncfl.org/pdf/201405.pdf\n\nFor more informati
 on visit https://codetown.com/events/aitp-may-presentation
DTSTART:20140520T213000Z
DTEND:20140520T234500Z
CATEGORIES:dinner, and, presentation
LOCATION:UF Hilton
WEBSITE:http://www3.hilton.com/en/hotels/florida/hilton-university-of-
 florida-conference-center-gainesville-GVNCCHF/index.html
URL:http://www3.hilton.com/en/hotels/florida/hilton-university-of-flor
 ida-conference-center-gainesville-GVNCCHF/index.html
CONTACT:(352)354-AITP
ORGANIZER:AITP of North Central Florida
ATTACH;FMTTYPE="image/jpeg":http://storage.ning.com/topology/rest/1.0/
 file/get/2006950561?profile=original
ATTENDEE;ROLE=REQ-PARTICIPANT;PARTSTAT=ACCEPTED;RSVP=TRUE;CN="Michael 
 Lucas":https://codetown.com/profile/MichaelLucas
ATTENDEE;ROLE=REQ-PARTICIPANT;PARTSTAT=TENTATIVE;RSVP=TRUE;CN="Michael
  Levin":https://codetown.com/profile/MichaelLevin
END:VEVENT
END:VCALENDAR
