BEGIN:VCALENDAR
PRODID:NingEventWidget-v1
VERSION:2.0
METHOD:PUBLISH
BEGIN:VEVENT
UID:2197786:Event:41965
DTSTAMP:20260424T212502Z
SUMMARY:Agile-Lean Coffee Orlando
DESCRIPTION:Come share coffee and conversation on a variety of topics 
 related to agile and lean software development.\n\nFor more informatio
 n visit https://codetown.com/events/agile-lean-coffee-orlando-2
DTSTART:20121019T120000Z
DTEND:20121019T130000Z
CATEGORIES:discussion
LOCATION:check Meetup site
WEBSITE:http://www.meetup.com/Agile-Lean-Coffee-Orlando/
URL:http://www.meetup.com/Agile-Lean-Coffee-Orlando/
CONTACT:
ORGANIZER;CN="Mark Kilby":https://codetown.com/profile/MarkKilby
ATTACH;FMTTYPE="image/jpeg":
ATTENDEE;ROLE=REQ-PARTICIPANT;PARTSTAT=ACCEPTED;RSVP=TRUE;CN="Mark Kil
 by":https://codetown.com/profile/MarkKilby
END:VEVENT
END:VCALENDAR
